BEGIN:VCALENDAR
VERSION:2.0
CALSCALE:GREGORIAN
PRODID:-//Diputació de Barcelona//DibaCMS//EN
BEGIN:VEVENT
UID:24144
DTSTAMP:20260422T180536
DTSTART:20250307T190000
DTEND:20250411T200000
SUMMARY:Curset de sardanes
LOCATION:Plaça de l'Església 08755 Castellbisbal
METHOD:PUBLISH
X-WR-CALNAME:comunicacio@castellbisbal.cat
X-WR-TIMEZONE:Europe/Madrid
DESCRIPTION:Del 7 de març a l'11 d'abril, de 19.00 a 20.00 hores, a les sales parroquials

URI:https://www.castellbisbal.cat/actualitat/agenda/curset-de-sardanes.html
CLASS:PUBLIC
END:VEVENT
END:VCALENDAR
