BEGIN:VCALENDAR
VERSION:2.0
CALSCALE:GREGORIAN
PRODID:-//Diputació de Barcelona//DibaCMS//EN
BEGIN:VEVENT
UID:24149
DTSTAMP:20260421T140135
DTSTART:20250426T093000
DTEND:20250426T093000
SUMMARY:Visita a Vilanova i la Geltrú amb activitats d'aigua i dinar
LOCATION:Avinguda Gaudí 08755 Castellbisbal
METHOD:PUBLISH
X-WR-CALNAME:comunicacio@castellbisbal.cat
X-WR-TIMEZONE:Europe/Madrid
DESCRIPTION:El 26 d'abril. Sortida a les 9.30 hores, des de l'av. Antoni Gaudí

URI:https://www.castellbisbal.cat/actualitat/agenda/visita-a-vilanova-i-la-geltru-amb-activitats-daigua-i-dinar.html
CLASS:PUBLIC
END:VEVENT
END:VCALENDAR
