BEGIN:VCALENDAR
VERSION:2.0
CALSCALE:GREGORIAN
PRODID:-//Diputació de Barcelona//DibaCMS//EN
BEGIN:VEVENT
UID:24161
DTSTAMP:20260423T032736
DTSTART:20250319T000000
DTEND:20250415T235900
SUMMARY:Novè concurs 9 Random Relats
LOCATION:
METHOD:PUBLISH
X-WR-CALNAME:comunicacio@castellbisbal.cat
X-WR-TIMEZONE:Europe/Madrid
DESCRIPTION:Presentació de relats fins al 15 d'abril

URI:https://www.castellbisbal.cat/actualitat/agenda/nove-concurs-9-random-relats.html
CLASS:PUBLIC
END:VEVENT
END:VCALENDAR
