BEGIN:VCALENDAR
VERSION:2.0
CALSCALE:GREGORIAN
PRODID:-//Diputació de Barcelona//DibaCMS//EN
BEGIN:VEVENT
UID:24162
DTSTAMP:20260424T172741
DTSTART:20250324T160000
DTEND:20250324T160000
SUMMARY:Donació sang: Omple'l de vida
LOCATION:C. Major, 109 08755 Castellbisbal
METHOD:PUBLISH
X-WR-CALNAME:comunicacio@castellbisbal.cat
X-WR-TIMEZONE:Europe/Madrid
DESCRIPTION:El 24 de març, de 16.00 a 20.00 hores, a l'Institut-Escola Les Vinyes

URI:https://www.castellbisbal.cat/actualitat/agenda/donacio-sang-omplel-de-vida.html
CLASS:PUBLIC
END:VEVENT
END:VCALENDAR
