BEGIN:VCALENDAR
VERSION:2.0
CALSCALE:GREGORIAN
PRODID:-//Diputació de Barcelona//DibaCMS//EN
BEGIN:VEVENT
UID:24164
DTSTAMP:20260422T055646
DTSTART:20250401T170000
DTEND:20250401T170000
SUMMARY:Taller: No anem a l'Ajuntament. L'Ajuntament al vostre mòbil
LOCATION:Avinguda Pau Casals, 16 08755 Castellbisbal
METHOD:PUBLISH
X-WR-CALNAME:comunicacio@castellbisbal.cat
X-WR-TIMEZONE:Europe/Madrid
DESCRIPTION:L'1 d'abril, a les 17.00 hores, a l'espai polivalent d'Els Costals

URI:https://www.castellbisbal.cat/actualitat/agenda/taller-no-anem-a-lajuntament-lajuntament-al-vostre-mobil.html
CLASS:PUBLIC
END:VEVENT
END:VCALENDAR
