BEGIN:VCALENDAR
VERSION:2.0
CALSCALE:GREGORIAN
PRODID:-//Diputació de Barcelona//DibaCMS//EN
BEGIN:VEVENT
UID:24204
DTSTAMP:20260421T163443
DTSTART:20250619T190000
DTEND:20250619T190000
SUMMARY:Conferència: Pensar poèticament
LOCATION:C. Agricultura, s/n 08755 Castellbisbal
METHOD:PUBLISH
X-WR-CALNAME:comunicacio@castellbisbal.cat
X-WR-TIMEZONE:Europe/Madrid
DESCRIPTION:El 19 de juny, a les 19.00 hores, a la sala polivalent d'Els Costals

URI:https://www.castellbisbal.cat/actualitat/agenda/conferencia-pensar-poeticament.html
CLASS:PUBLIC
END:VEVENT
END:VCALENDAR
