BEGIN:VCALENDAR
VERSION:2.0
CALSCALE:GREGORIAN
PRODID:-//Diputació de Barcelona//DibaCMS//EN
BEGIN:VEVENT
UID:24205
DTSTAMP:20260422T015151
DTSTART:20250328T170000
DTEND:20250328T200000
SUMMARY:Entrenaments oberts de bàsquet: Dia de l'Amic
LOCATION:
METHOD:PUBLISH
X-WR-CALNAME:comunicacio@castellbisbal.cat
X-WR-TIMEZONE:Europe/Madrid
DESCRIPTION:El 28 de març, de 17.00 a 20.00 hores, al pavelló de l'Illa Esportiva

URI:https://www.castellbisbal.cat/actualitat/agenda/entrenaments-oberts-de-basquet-dia-de-lamic.html
CLASS:PUBLIC
END:VEVENT
END:VCALENDAR
