BEGIN:VCALENDAR
VERSION:2.0
CALSCALE:GREGORIAN
PRODID:-//Diputació de Barcelona//DibaCMS//EN
BEGIN:VEVENT
UID:24222
DTSTAMP:20260422T011556
DTSTART:20250426T113000
DTEND:20250426T113000
SUMMARY:Laboratori creatiu: "La festa dels ratolins"
LOCATION:Av. de Pau Casals, 16 08755 Castellbisbal
METHOD:PUBLISH
X-WR-CALNAME:comunicacio@castellbisbal.cat
X-WR-TIMEZONE:Europe/Madrid
DESCRIPTION:El 26 d'abril, a les 11.30 hores, a la Biblioteca Josep Mateu i Miró

URI:https://www.castellbisbal.cat/actualitat/agenda/biblioteca/laboratori-creatiu-la-festa-dels-ratolins.html
CLASS:PUBLIC
END:VEVENT
END:VCALENDAR
