BEGIN:VCALENDAR
VERSION:2.0
CALSCALE:GREGORIAN
PRODID:-//Diputació de Barcelona//DibaCMS//EN
BEGIN:VEVENT
UID:24228
DTSTAMP:20260421T165537
DTSTART:20250427T180000
DTEND:20250427T180000
SUMMARY:Monòleg solidari amb Pepi Labrador
LOCATION:Av. de Pau Casals, 16 08755 Castellbisbal
METHOD:PUBLISH
X-WR-CALNAME:comunicacio@castellbisbal.cat
X-WR-TIMEZONE:Europe/Madrid
DESCRIPTION:El 27 d'abril, a les 18.00 hores, a l'auditori d'Els Costals

URI:https://www.castellbisbal.cat/actualitat/agenda/monoleg-solidari-amb-pepi-labrador.html
CLASS:PUBLIC
END:VEVENT
END:VCALENDAR
