BEGIN:VCALENDAR
VERSION:2.0
CALSCALE:GREGORIAN
PRODID:-//Diputació de Barcelona//DibaCMS//EN
BEGIN:VEVENT
UID:24281
DTSTAMP:20260421T140900
DTSTART:20250427T090000
DTEND:20250427T140000
SUMMARY:Caramelles
LOCATION:
METHOD:PUBLISH
X-WR-CALNAME:comunicacio@castellbisbal.cat
X-WR-TIMEZONE:Europe/Madrid
DESCRIPTION:El 27 d'abril, de 9.00 a 14.00 hores, pels carrers del poble

URI:https://www.castellbisbal.cat/actualitat/agenda/24281-caramelles.html
CLASS:PUBLIC
END:VEVENT
END:VCALENDAR
