BEGIN:VCALENDAR
VERSION:2.0
CALSCALE:GREGORIAN
PRODID:-//Diputació de Barcelona//DibaCMS//EN
BEGIN:VEVENT
UID:24295
DTSTAMP:20260420T102225
DTSTART:20250522T183000
DTEND:20250522T183000
SUMMARY:Racó Jove: Jocs de taula
LOCATION:Carrer Francesc Macià, 64 08755 Castellbisbal
METHOD:PUBLISH
X-WR-CALNAME:comunicacio@castellbisbal.cat
X-WR-TIMEZONE:Europe/Madrid
DESCRIPTION:El 22 de maig, a les 18.30 hores, al Racó Jove

URI:https://www.castellbisbal.cat/actualitat/agenda/24295-raco-jove-jocs-de-taula.html
CLASS:PUBLIC
END:VEVENT
END:VCALENDAR
