BEGIN:VCALENDAR
VERSION:2.0
CALSCALE:GREGORIAN
PRODID:-//Diputació de Barcelona//DibaCMS//EN
BEGIN:VEVENT
UID:24324
DTSTAMP:20260423T120128
DTSTART:20250526T000000
DTEND:20250613T000000
SUMMARY:Jornades de portes obertes de bàsquet
LOCATION:
METHOD:PUBLISH
X-WR-CALNAME:comunicacio@castellbisbal.cat
X-WR-TIMEZONE:Europe/Madrid
DESCRIPTION:Els dies 26, 28 i 30 de maig i 9, 11 i 13 de juny

URI:https://www.castellbisbal.cat/actualitat/agenda/jornades-de-portes-obertes-de-basquet.html
CLASS:PUBLIC
END:VEVENT
END:VCALENDAR
