BEGIN:VCALENDAR
VERSION:2.0
CALSCALE:GREGORIAN
PRODID:-//Diputació de Barcelona//DibaCMS//EN
BEGIN:VEVENT
UID:24357
DTSTAMP:20260421T104345
DTSTART:20250524T180000
DTEND:20250524T180000
SUMMARY:UrbaContes a Santa Rita
LOCATION:
METHOD:PUBLISH
X-WR-CALNAME:comunicacio@castellbisbal.cat
X-WR-TIMEZONE:Europe/Madrid
DESCRIPTION:El 24 de maig, a les 18.00 hores, al carrer de Santa Rita

URI:https://www.castellbisbal.cat/actualitat/agenda/urbacontes-a-santa-rita.html
CLASS:PUBLIC
END:VEVENT
END:VCALENDAR
