BEGIN:VCALENDAR
VERSION:2.0
CALSCALE:GREGORIAN
PRODID:-//Diputació de Barcelona//DibaCMS//EN
BEGIN:VEVENT
UID:24363
DTSTAMP:20260421T115707
DTSTART:20250524T163000
DTEND:20250524T163000
SUMMARY:Primavera Cultural a Costablanca
LOCATION:Passeig del Torrent, 18-22 08755 Castellbisbal
METHOD:PUBLISH
X-WR-CALNAME:comunicacio@castellbisbal.cat
X-WR-TIMEZONE:Europe/Madrid
DESCRIPTION:El 24 de maig, a partir de les 16.30 hores, al local social de Costablanca

URI:https://www.castellbisbal.cat/actualitat/agenda/primavera-cultural-a-costablanca.html
CLASS:PUBLIC
END:VEVENT
END:VCALENDAR
