BEGIN:VCALENDAR
VERSION:2.0
CALSCALE:GREGORIAN
PRODID:-//Diputació de Barcelona//DibaCMS//EN
BEGIN:VEVENT
UID:24412
DTSTAMP:20260422T163803
DTSTART:20250610T170000
DTEND:20250610T170000
SUMMARY:Xerrada per a pares i mares: Protecció Solar
LOCATION:Av. de Pau Casals, 20 08755 Castellbisbal
METHOD:PUBLISH
X-WR-CALNAME:comunicacio@castellbisbal.cat
X-WR-TIMEZONE:Europe/Madrid
DESCRIPTION:El 10 de juny, a les 17.00 hores, a l'Escola Mare de Déu de Montserrat.

URI:https://www.castellbisbal.cat/actualitat/agenda/xerrada-per-a-pares-i-mares-proteccio-solar.html
CLASS:PUBLIC
END:VEVENT
END:VCALENDAR
