BEGIN:VCALENDAR
VERSION:2.0
CALSCALE:GREGORIAN
PRODID:-//Diputació de Barcelona//DibaCMS//EN
BEGIN:VEVENT
UID:24438
DTSTAMP:20260421T110026
DTSTART:20250626T173000
DTEND:20250626T173000
SUMMARY:Estiu Jove: Pizza Challenge!
LOCATION:Carrer Francesc Macià, 64 08755 Castellbisbal
METHOD:PUBLISH
X-WR-CALNAME:comunicacio@castellbisbal.cat
X-WR-TIMEZONE:Europe/Madrid
DESCRIPTION:ACTIVITAT ANUL·LADA PER MANCA D'INSCRITS

URI:https://www.castellbisbal.cat/actualitat/agenda/estiu-jove-pizza-challenge.html
CLASS:PUBLIC
END:VEVENT
END:VCALENDAR
