BEGIN:VCALENDAR
VERSION:2.0
CALSCALE:GREGORIAN
PRODID:-//Diputació de Barcelona//DibaCMS//EN
BEGIN:VEVENT
UID:24447
DTSTAMP:20260421T134931
DTSTART:20250709T173000
DTEND:20250709T173000
SUMMARY:Estiu Jove: Taller de defensa personal
LOCATION:Carrer Francesc Macià, 64 08755 Castellbisbal
METHOD:PUBLISH
X-WR-CALNAME:comunicacio@castellbisbal.cat
X-WR-TIMEZONE:Europe/Madrid
DESCRIPTION:Els dies 7 i 9 de juliol, a les 17.30 hores, al Racó Jove.

URI:https://www.castellbisbal.cat/actualitat/agenda/24447-estiu-jove-taller-de-defensa-personal.html
CLASS:PUBLIC
END:VEVENT
END:VCALENDAR
