BEGIN:VCALENDAR
VERSION:2.0
CALSCALE:GREGORIAN
PRODID:-//Diputació de Barcelona//DibaCMS//EN
BEGIN:VEVENT
UID:24449
DTSTAMP:20260421T184658
DTSTART:20250710T173000
DTEND:20250710T173000
SUMMARY:Estiu Jove: Curs d'introducció al japonès
LOCATION:Carrer Francesc Macià, 64 08755 Castellbisbal
METHOD:PUBLISH
X-WR-CALNAME:comunicacio@castellbisbal.cat
X-WR-TIMEZONE:Europe/Madrid
DESCRIPTION:Els dies 8 i 10 de juliol, a les 17.30 hores, al Racó Jove.

URI:https://www.castellbisbal.cat/actualitat/agenda/24449-estiu-jove-curs-dintroduccio-al-japones.html
CLASS:PUBLIC
END:VEVENT
END:VCALENDAR
