BEGIN:VCALENDAR
VERSION:2.0
CALSCALE:GREGORIAN
PRODID:-//Diputació de Barcelona//DibaCMS//EN
BEGIN:VEVENT
UID:24450
DTSTAMP:20260421T170911
DTSTART:20250711T113000
DTEND:20250711T113000
SUMMARY:Estiu Jove: Curs de manipulació d'aliments per a joves
LOCATION:Carrer Francesc Macià, 64 08755 Castellbisbal
METHOD:PUBLISH
X-WR-CALNAME:comunicacio@castellbisbal.cat
X-WR-TIMEZONE:Europe/Madrid
DESCRIPTION:L'11 de juliol, a les 11.00 hores, al Racó Jove.

URI:https://www.castellbisbal.cat/actualitat/agenda/estiu-jove-curs-de-manipulacio-daliments-per-a-joves.html
CLASS:PUBLIC
END:VEVENT
END:VCALENDAR
