BEGIN:VCALENDAR
VERSION:2.0
CALSCALE:GREGORIAN
PRODID:-//Diputació de Barcelona//DibaCMS//EN
BEGIN:VEVENT
UID:24485
DTSTAMP:20260421T212900
DTSTART:20250712T183000
DTEND:20250712T183000
SUMMARY:17è Aplec de la Sardana
LOCATION:Av. de Pau Casals, 20 08755 Castellbisbal
METHOD:PUBLISH
X-WR-CALNAME:comunicacio@castellbisbal.cat
X-WR-TIMEZONE:Europe/Madrid
DESCRIPTION:El 12 de juliol, de 18.30 a 22.45 hores, a la pista exterior coberta de l'Escola Mare de Déu de Montserrat.

URI:https://www.castellbisbal.cat/actualitat/agenda/17e-aplec-de-la-sardana.html
CLASS:PUBLIC
END:VEVENT
END:VCALENDAR
