BEGIN:VCALENDAR
VERSION:2.0
CALSCALE:GREGORIAN
PRODID:-//Diputació de Barcelona//DibaCMS//EN
BEGIN:VEVENT
UID:24492
DTSTAMP:20260422T035540
DTSTART:20250630T190000
DTEND:20250630T190000
SUMMARY:Ple municipal
LOCATION:Avinguda de Pau Casals, 9 08755 Castellbisbal
METHOD:PUBLISH
X-WR-CALNAME:comunicacio@castellbisbal.cat
X-WR-TIMEZONE:Europe/Madrid
DESCRIPTION:El 30 de juny, a les 19.00 hores, a la sala de plens de l'Ajuntament.

URI:https://www.castellbisbal.cat/actualitat/agenda/24492-ple-municipal.html
CLASS:PUBLIC
END:VEVENT
END:VCALENDAR
