BEGIN:VCALENDAR
VERSION:2.0
CALSCALE:GREGORIAN
PRODID:-//Diputació de Barcelona//DibaCMS//EN
BEGIN:VEVENT
UID:24499
DTSTAMP:20260421T132808
DTSTART:20250712T100000
DTEND:20250712T100000
SUMMARY:Donació de sang i plasma
LOCATION:Carrer de Sant Joan, 2 08755 Castellbisbal
METHOD:PUBLISH
X-WR-CALNAME:comunicacio@castellbisbal.cat
X-WR-TIMEZONE:Europe/Madrid
DESCRIPTION:El 12 de juliol, durant tot el matí, al Casal de la Gent Gran.

URI:https://www.castellbisbal.cat/actualitat/agenda/24499-donacio-de-sang-i-plasma.html
CLASS:PUBLIC
END:VEVENT
END:VCALENDAR
