BEGIN:VCALENDAR
VERSION:2.0
CALSCALE:GREGORIAN
PRODID:-//Diputació de Barcelona//DibaCMS//EN
BEGIN:VEVENT
UID:24506
DTSTAMP:20260421T135016
DTSTART:20250706T100000
DTEND:20250706T100000
SUMMARY:Mulla't per l'Esclerosi Múltiple
LOCATION:C. dels Esports 08755 Castellbisbal
METHOD:PUBLISH
X-WR-CALNAME:comunicacio@castellbisbal.cat
X-WR-TIMEZONE:Europe/Madrid
DESCRIPTION:El 6 de juliol, de 10.00 a 14.00 hores, a la piscina d'estiu de l'Illa Esportiva.

URI:https://www.castellbisbal.cat/actualitat/agenda/24506-mullat-per-lesclerosi-multiple.html
CLASS:PUBLIC
END:VEVENT
END:VCALENDAR
