BEGIN:VCALENDAR
VERSION:2.0
CALSCALE:GREGORIAN
PRODID:-//Diputació de Barcelona//DibaCMS//EN
BEGIN:VEVENT
UID:24533
DTSTAMP:20260421T115759
DTSTART:20250819T230000
DTEND:20250819T230000
SUMMARY:Festa de la Llum
LOCATION:08755 Castellbisbal
METHOD:PUBLISH
X-WR-CALNAME:comunicacio@castellbisbal.cat
X-WR-TIMEZONE:Europe/Madrid
DESCRIPTION:El 19 d'agost, sortida a les 23.00 hores de la Plaça de l'Església

URI:https://www.castellbisbal.cat/actualitat/agenda/festa-de-la-llum.html
CLASS:PUBLIC
END:VEVENT
END:VCALENDAR
