BEGIN:VCALENDAR
VERSION:2.0
CALSCALE:GREGORIAN
PRODID:-//Diputació de Barcelona//DibaCMS//EN
BEGIN:VEVENT
UID:24539
DTSTAMP:20260419T164025
DTSTART:20250820T121000
DTEND:20250820T121000
SUMMARY:Acte de recreació històrica
LOCATION:08755 Castellbisbal
METHOD:PUBLISH
X-WR-CALNAME:comunicacio@castellbisbal.cat
X-WR-TIMEZONE:Europe/Madrid
DESCRIPTION:El 20 d'agost, a les 12.10 hores, a la Plaça de l'Església

URI:https://www.castellbisbal.cat/actualitat/agenda/24539-acte-de-recreacio-historica.html
CLASS:PUBLIC
END:VEVENT
END:VCALENDAR
