BEGIN:VCALENDAR
VERSION:2.0
CALSCALE:GREGORIAN
PRODID:-//Diputació de Barcelona//DibaCMS//EN
BEGIN:VEVENT
UID:24559
DTSTAMP:20260421T195506
DTSTART:20250822T180000
DTEND:20250822T180000
SUMMARY:Carrers de Circ
LOCATION:Av. de Pau Casals, 16 08755 Castellbisbal
METHOD:PUBLISH
X-WR-CALNAME:comunicacio@castellbisbal.cat
X-WR-TIMEZONE:Europe/Madrid
DESCRIPTION:El 22 d'agost, a partir de les 18.00 hores, a l'espai Mary Santpere d'Els Costals

URI:https://www.castellbisbal.cat/actualitat/agenda/24559-carrers-de-circ.html
CLASS:PUBLIC
END:VEVENT
END:VCALENDAR
