BEGIN:VCALENDAR
VERSION:2.0
CALSCALE:GREGORIAN
PRODID:-//Diputació de Barcelona//DibaCMS//EN
BEGIN:VEVENT
UID:24562
DTSTAMP:20260421T180859
DTSTART:20250822T210000
DTEND:20250822T210000
SUMMARY:Festival de la Casa de Andalucia
LOCATION:08755 Castellbisbal
METHOD:PUBLISH
X-WR-CALNAME:comunicacio@castellbisbal.cat
X-WR-TIMEZONE:Europe/Madrid
DESCRIPTION:El 22 d'agost, a les 21.00 hores, a la pista d'estiu del Casal Cultural i Recreatiu

URI:https://www.castellbisbal.cat/actualitat/agenda/24562-festival-de-la-casa-de-andalucia.html
CLASS:PUBLIC
END:VEVENT
END:VCALENDAR
