BEGIN:VCALENDAR
VERSION:2.0
CALSCALE:GREGORIAN
PRODID:-//Diputació de Barcelona//DibaCMS//EN
BEGIN:VEVENT
UID:24571
DTSTAMP:20260419T161405
DTSTART:20250823T120000
DTEND:20250823T120000
SUMMARY:42è Concurs de Tastavins
LOCATION:Av. de Pau Casals 7 08755 Castellbisbal
METHOD:PUBLISH
X-WR-CALNAME:comunicacio@castellbisbal.cat
X-WR-TIMEZONE:Europe/Madrid
DESCRIPTION:El 23 d'agost, a les 12.00 hores, al Centre Cultural i Recreatiu

URI:https://www.castellbisbal.cat/actualitat/agenda/42e-concurs-de-tastavins.html
CLASS:PUBLIC
END:VEVENT
END:VCALENDAR
