BEGIN:VCALENDAR
VERSION:2.0
CALSCALE:GREGORIAN
PRODID:-//Diputació de Barcelona//DibaCMS//EN
BEGIN:VEVENT
UID:24581
DTSTAMP:20260421T121305
DTSTART:20250824T034500
DTEND:20250824T034500
SUMMARY:Tractor Trànsit Sound System
LOCATION:
METHOD:PUBLISH
X-WR-CALNAME:comunicacio@castellbisbal.cat
X-WR-TIMEZONE:Europe/Madrid
DESCRIPTION:El 24 d'agost, sortida a les 3.45 de la matinada del carrer de l'Estació

URI:https://www.castellbisbal.cat/actualitat/agenda/tractor-transit-sound-system.html
CLASS:PUBLIC
END:VEVENT
END:VCALENDAR
