BEGIN:VCALENDAR
VERSION:2.0
CALSCALE:GREGORIAN
PRODID:-//Diputació de Barcelona//DibaCMS//EN
BEGIN:VEVENT
UID:24585
DTSTAMP:20260422T180648
DTSTART:20250824T181500
DTEND:20250824T181500
SUMMARY:Daltabaix 2025
LOCATION:Avinguda Gaudí 08755 Castellbisbal
METHOD:PUBLISH
X-WR-CALNAME:comunicacio@castellbisbal.cat
X-WR-TIMEZONE:Europe/Madrid
DESCRIPTION:El 24 d'agost, a partir de les 18.15 hores, a l'avinguda d'Antoni Gaudí (La Bassa)

URI:https://www.castellbisbal.cat/actualitat/agenda/daltabaix-2025.html
CLASS:PUBLIC
END:VEVENT
END:VCALENDAR
