BEGIN:VCALENDAR
VERSION:2.0
CALSCALE:GREGORIAN
PRODID:-//Diputació de Barcelona//DibaCMS//EN
BEGIN:VEVENT
UID:24596
DTSTAMP:20260419T145907
DTSTART:20251106T190000
DTEND:20251106T190000
SUMMARY:Conferència: La Barcelona de Picasso
LOCATION:Sala polivalent d'Els Costals
 
METHOD:PUBLISH
X-WR-CALNAME:comunicacio@castellbisbal.cat
X-WR-TIMEZONE:Europe/Madrid
DESCRIPTION:El 6 de novembre, a les 19.00 hores, a la sala polivalent d'Els Costals

URI:https://www.castellbisbal.cat/actualitat/agenda/conferencia-la-barcelona-de-picasso.html
CLASS:PUBLIC
END:VEVENT
END:VCALENDAR
