BEGIN:VCALENDAR
VERSION:2.0
CALSCALE:GREGORIAN
PRODID:-//Diputació de Barcelona//DibaCMS//EN
BEGIN:VEVENT
UID:24710
DTSTAMP:20260419T145426
DTSTART:20250930T170000
DTEND:20250930T170000
SUMMARY:Taller: L'Ajuntament al mòbil
LOCATION:Avinguda Pau Casals, 16 08755 Castellbisbal
METHOD:PUBLISH
X-WR-CALNAME:comunicacio@castellbisbal.cat
X-WR-TIMEZONE:Europe/Madrid
DESCRIPTION:ACTIVITAT CANCEL·LADA

URI:https://www.castellbisbal.cat/actualitat/agenda/taller-lajuntament-al-mobil.html
CLASS:PUBLIC
END:VEVENT
END:VCALENDAR
