BEGIN:VCALENDAR
VERSION:2.0
CALSCALE:GREGORIAN
PRODID:-//Diputació de Barcelona//DibaCMS//EN
BEGIN:VEVENT
UID:24719
DTSTAMP:20260419T145355
DTSTART:20251001T180000
DTEND:20251001T180000
SUMMARY:Inauguració de les 16es Jornades de la Gent Gran
LOCATION:Carrer de Sant Joan, 2 08755 Castellbisbal
METHOD:PUBLISH
X-WR-CALNAME:comunicacio@castellbisbal.cat
X-WR-TIMEZONE:Europe/Madrid
DESCRIPTION:
URI:https://www.castellbisbal.cat/ajuntament/govern/3631-agenda-institucional/inauguracio-de-les-16es-jornades-de-la-gent-gran.html
CLASS:PUBLIC
END:VEVENT
END:VCALENDAR
