BEGIN:VCALENDAR
VERSION:2.0
CALSCALE:GREGORIAN
PRODID:-//Diputació de Barcelona//DibaCMS//EN
BEGIN:VEVENT
UID:24844
DTSTAMP:20260419T225952
DTSTART:20251129T000000
DTEND:20251129T000000
SUMMARY:Fira de Nadal i Encesa de llums
LOCATION:
METHOD:PUBLISH
X-WR-CALNAME:comunicacio@castellbisbal.cat
X-WR-TIMEZONE:Europe/Madrid
DESCRIPTION:El 29 de novembre, de 10.00 a 20.00 hores, a la Plaça de l'Església i carrers adjacents

URI:https://www.castellbisbal.cat/actualitat/agenda/cicle-de-nadal/fira-de-nadal-i-encesa-de-llums.html
CLASS:PUBLIC
END:VEVENT
END:VCALENDAR
