BEGIN:VCALENDAR
VERSION:2.0
CALSCALE:GREGORIAN
PRODID:-//Diputació de Barcelona//DibaCMS//EN
BEGIN:VEVENT
UID:24975
DTSTAMP:20260420T102349
DTSTART:20251203T091500
DTEND:20251203T091500
SUMMARY:Formació de Comptabilitat: Sage Contaplus
LOCATION:Av. de Pau Casals, 16 08755 Castellbisbal
METHOD:PUBLISH
X-WR-CALNAME:comunicacio@castellbisbal.cat
X-WR-TIMEZONE:Europe/Madrid
DESCRIPTION:El 3 de desembre, a les 09.15 hores, a l'Aula Multimèdia d'Els Costals

URI:https://www.castellbisbal.cat/actualitat/agenda/formacio-de-comptabilitat-sage-contaplus.html
CLASS:PUBLIC
END:VEVENT
END:VCALENDAR
