BEGIN:VCALENDAR
VERSION:2.0
CALSCALE:GREGORIAN
PRODID:-//Diputació de Barcelona//DibaCMS//EN
BEGIN:VEVENT
UID:24999
DTSTAMP:20260420T114454
DTSTART:20251204T180000
DTEND:20251204T190000
SUMMARY:Taller: Nadal 'mood' ON
LOCATION:Carrer Francesc Macià, 64 08755 Castellbisbal
METHOD:PUBLISH
X-WR-CALNAME:comunicacio@castellbisbal.cat
X-WR-TIMEZONE:Europe/Madrid
DESCRIPTION:El 4 de desembre, de 18.00 a 19.00 hores, al Racó Jove

URI:https://www.castellbisbal.cat/actualitat/agenda/taller-nadal-mood-on.html
CLASS:PUBLIC
END:VEVENT
END:VCALENDAR
