BEGIN:VCALENDAR
VERSION:2.0
CALSCALE:GREGORIAN
PRODID:-//Diputació de Barcelona//DibaCMS//EN
BEGIN:VEVENT
UID:25000
DTSTAMP:20260420T101353
DTSTART:20251211T180000
DTEND:20251211T190000
SUMMARY:Taller: L'arbre de Nadal 2.0
LOCATION:Carrer Francesc Macià, 64 08755 Castellbisbal
METHOD:PUBLISH
X-WR-CALNAME:comunicacio@castellbisbal.cat
X-WR-TIMEZONE:Europe/Madrid
DESCRIPTION:El dia 11 de desembre, de 18.00 a 19.00 h, al Racó Jove

URI:https://www.castellbisbal.cat/actualitat/agenda/taller-larbre-de-nadal-20.html
CLASS:PUBLIC
END:VEVENT
END:VCALENDAR
