BEGIN:VCALENDAR
VERSION:2.0
CALSCALE:GREGORIAN
PRODID:-//Diputació de Barcelona//DibaCMS//EN
BEGIN:VEVENT
UID:25036
DTSTAMP:20260426T042416
DTSTART:20260121T180000
DTEND:20260121T180000
SUMMARY:Concert: Conjunts i solistes
LOCATION:Av. de Pau Casals, 9 08755 Castellbisbal
METHOD:PUBLISH
X-WR-CALNAME:comunicacio@castellbisbal.cat
X-WR-TIMEZONE:Europe/Madrid
DESCRIPTION:El 21 de gener, a les 18.00 hores, a la Sala d'actes de l'Ajuntament

URI:https://www.castellbisbal.cat/actualitat/agenda/festa-major-de-sant-vicenc/concert-conjunts-i-solistes.html
CLASS:PUBLIC
END:VEVENT
END:VCALENDAR
