BEGIN:VCALENDAR
VERSION:2.0
CALSCALE:GREGORIAN
PRODID:-//Diputació de Barcelona//DibaCMS//EN
BEGIN:VEVENT
UID:25037
DTSTAMP:20260426T025657
DTSTART:20260121T190000
DTEND:20260121T190000
SUMMARY:Conferència amb música: Boleros i cançons d'amor
LOCATION:Av. de Pau Casals, 9 08755 Castellbisbal
METHOD:PUBLISH
X-WR-CALNAME:comunicacio@castellbisbal.cat
X-WR-TIMEZONE:Europe/Madrid
DESCRIPTION:El 21 de gener, a les 19.00 hores, a l'Auditori d'Els Costals

URI:https://www.castellbisbal.cat/actualitat/agenda/festa-major-de-sant-vicenc/conferencia-amb-musica-boleros-i-cancons-damor.html
CLASS:PUBLIC
END:VEVENT
END:VCALENDAR
