BEGIN:VCALENDAR
VERSION:2.0
CALSCALE:GREGORIAN
PRODID:-//Diputació de Barcelona//DibaCMS//EN
BEGIN:VEVENT
UID:25038
DTSTAMP:20260426T025755
DTSTART:20260121T210000
DTEND:20260121T210000
SUMMARY:Jam session
LOCATION:Av. de Pau Casals 7 08755 Castellbisbal
METHOD:PUBLISH
X-WR-CALNAME:comunicacio@castellbisbal.cat
X-WR-TIMEZONE:Europe/Madrid
DESCRIPTION:El 21 de gener, a les 21.00 hores, al Casal Cultural i Recreatiu

URI:https://www.castellbisbal.cat/actualitat/agenda/festa-major-de-sant-vicenc/25038-jam-session.html
CLASS:PUBLIC
END:VEVENT
END:VCALENDAR
