BEGIN:VCALENDAR
VERSION:2.0
CALSCALE:GREGORIAN
PRODID:-//Diputació de Barcelona//DibaCMS//EN
BEGIN:VEVENT
UID:25039
DTSTAMP:20260426T030906
DTSTART:20260122T103000
DTEND:20260122T103000
SUMMARY:Matinal de Festa Major
LOCATION:Avinguda Pau Casals, 16 08755 Castellbisbal
METHOD:PUBLISH
X-WR-CALNAME:comunicacio@castellbisbal.cat
X-WR-TIMEZONE:Europe/Madrid
DESCRIPTION:El 22 de gener, a les 10.30 hores, a l'Espai Polivalent d'Els Costals

URI:https://www.castellbisbal.cat/actualitat/agenda/festa-major-de-sant-vicenc/25039-matinal-de-festa-major.html
CLASS:PUBLIC
END:VEVENT
END:VCALENDAR
