BEGIN:VCALENDAR
VERSION:2.0
CALSCALE:GREGORIAN
PRODID:-//Diputació de Barcelona//DibaCMS//EN
BEGIN:VEVENT
UID:25040
DTSTAMP:20260426T030455
DTSTART:20260122T110000
DTEND:20260122T110000
SUMMARY:Ofici de Festa Major de Sant Vicenç 
LOCATION:Església parroquial de Sant Vicenç 
METHOD:PUBLISH
X-WR-CALNAME:comunicacio@castellbisbal.cat
X-WR-TIMEZONE:Europe/Madrid
DESCRIPTION:El 22 de gener, a les 11.00 hores, a l'Església parroquial de Sant Vicenç

URI:https://www.castellbisbal.cat/actualitat/agenda/festa-major-de-sant-vicenc/ofici-de-festa-major-de-sant-vicenc-.html
CLASS:PUBLIC
END:VEVENT
END:VCALENDAR
