BEGIN:VCALENDAR
VERSION:2.0
CALSCALE:GREGORIAN
PRODID:-//Diputació de Barcelona//DibaCMS//EN
BEGIN:VEVENT
UID:25042
DTSTAMP:20260426T042919
DTSTART:20260122T120000
DTEND:20260122T120000
SUMMARY:Sardanes de Festa Major
LOCATION:08755 Castellbisbal
METHOD:PUBLISH
X-WR-CALNAME:comunicacio@castellbisbal.cat
X-WR-TIMEZONE:Europe/Madrid
DESCRIPTION:El 22 de gener, a les 12.00 hores, a la pista coberta de l'Escola Montserrat

URI:https://www.castellbisbal.cat/actualitat/agenda/festa-major-de-sant-vicenc/25042-sardanes-de-festa-major.html
CLASS:PUBLIC
END:VEVENT
END:VCALENDAR
