BEGIN:VCALENDAR
VERSION:2.0
CALSCALE:GREGORIAN
PRODID:-//Diputació de Barcelona//DibaCMS//EN
BEGIN:VEVENT
UID:25043
DTSTAMP:20260426T042649
DTSTART:20260122T180000
DTEND:20260122T180000
SUMMARY:Espectacle familiar: Karoli, l'home que roda
LOCATION:Av. de Pau Casals 7 08755 Castellbisbal
METHOD:PUBLISH
X-WR-CALNAME:comunicacio@castellbisbal.cat
X-WR-TIMEZONE:Europe/Madrid
DESCRIPTION:El 22 de gener, a les 18.00 hores, al Casal Cultural i Recreatiu

URI:https://www.castellbisbal.cat/actualitat/agenda/festa-major-de-sant-vicenc/espectacle-familiar-karoli-lhome-que-roda.html
CLASS:PUBLIC
END:VEVENT
END:VCALENDAR
