BEGIN:VCALENDAR
VERSION:2.0
CALSCALE:GREGORIAN
PRODID:-//Diputació de Barcelona//DibaCMS//EN
BEGIN:VEVENT
UID:25048
DTSTAMP:20260426T025856
DTSTART:20260122T000000
DTEND:20260125T000000
SUMMARY:Exposició: Façanes, peixeres i un conte
LOCATION:Avinguda Pau Casals, 16 08755 Castellbisbal
METHOD:PUBLISH
X-WR-CALNAME:comunicacio@castellbisbal.cat
X-WR-TIMEZONE:Europe/Madrid
DESCRIPTION:El 22 al 25 de gener, a l'Espai Montserrat Roig d'Els Costals

URI:https://www.castellbisbal.cat/actualitat/agenda/festa-major-de-sant-vicenc/exposicio-facanes-peixeres-i-un-conte.html
CLASS:PUBLIC
END:VEVENT
END:VCALENDAR
