BEGIN:VCALENDAR
VERSION:2.0
CALSCALE:GREGORIAN
PRODID:-//Diputació de Barcelona//DibaCMS//EN
BEGIN:VEVENT
UID:25050
DTSTAMP:20260426T054422
DTSTART:20260123T103000
DTEND:20260123T103000
SUMMARY:Matinal de Festa Major 
LOCATION:Avinguda Pau Casals, 16 08755 Castellbisbal
METHOD:PUBLISH
X-WR-CALNAME:comunicacio@castellbisbal.cat
X-WR-TIMEZONE:Europe/Madrid
DESCRIPTION:El 23 de gener, a les 10.30 hores, a l'Espai Polivalent d'Els Costals

URI:https://www.castellbisbal.cat/actualitat/agenda/festa-major-de-sant-vicenc/matinal-de-festa-major-.html
CLASS:PUBLIC
END:VEVENT
END:VCALENDAR
