BEGIN:VCALENDAR
VERSION:2.0
CALSCALE:GREGORIAN
PRODID:-//Diputació de Barcelona//DibaCMS//EN
BEGIN:VEVENT
UID:25054
DTSTAMP:20260426T042315
DTSTART:20260123T180000
DTEND:20260123T180000
SUMMARY:Campionat de Rummikub
LOCATION:Seu del CADA. C/Sant Joan, 2, 1r pis 
METHOD:PUBLISH
X-WR-CALNAME:comunicacio@castellbisbal.cat
X-WR-TIMEZONE:Europe/Madrid
DESCRIPTION:El 23 de gener, a les 18.00 hores, a la Seu del CADA

URI:https://www.castellbisbal.cat/actualitat/agenda/festa-major-de-sant-vicenc/25054-campionat-de-rummikub.html
CLASS:PUBLIC
END:VEVENT
END:VCALENDAR
