BEGIN:VCALENDAR
VERSION:2.0
CALSCALE:GREGORIAN
PRODID:-//Diputació de Barcelona//DibaCMS//EN
BEGIN:VEVENT
UID:25055
DTSTAMP:20260426T025739
DTSTART:20260123T180000
DTEND:20260123T180000
SUMMARY:La vesprada d'hivern
LOCATION:08755 Castellbisbal
METHOD:PUBLISH
X-WR-CALNAME:comunicacio@castellbisbal.cat
X-WR-TIMEZONE:Europe/Madrid
DESCRIPTION:El 23 de gener, a les 18.00 hores, a la Plaça de l'Església

URI:https://www.castellbisbal.cat/actualitat/agenda/festa-major-de-sant-vicenc/la-vesprada-dhivern.html
CLASS:PUBLIC
END:VEVENT
END:VCALENDAR
