BEGIN:VCALENDAR
VERSION:2.0
CALSCALE:GREGORIAN
PRODID:-//Diputació de Barcelona//DibaCMS//EN
BEGIN:VEVENT
UID:25056
DTSTAMP:20260426T043327
DTSTART:20260124T100000
DTEND:20260124T100000
SUMMARY:Torneig de tennis infantil del pernil 
LOCATION:C. Agricultura, s/n 08755 Castellbisbal
METHOD:PUBLISH
X-WR-CALNAME:comunicacio@castellbisbal.cat
X-WR-TIMEZONE:Europe/Madrid
DESCRIPTION:ANUL·LAT PER LA PREVISIÓ DE PLUJA

URI:https://www.castellbisbal.cat/actualitat/agenda/festa-major-de-sant-vicenc/torneig-de-tennis-infantil-del-pernil-.html
CLASS:PUBLIC
END:VEVENT
END:VCALENDAR
