BEGIN:VCALENDAR
VERSION:2.0
CALSCALE:GREGORIAN
PRODID:-//Diputació de Barcelona//DibaCMS//EN
BEGIN:VEVENT
UID:25059
DTSTAMP:20260426T025831
DTSTART:20260124T113000
DTEND:20260124T113000
SUMMARY:Vermut popular
LOCATION:Av. de Pau Casals, 20 08755 Castellbisbal
METHOD:PUBLISH
X-WR-CALNAME:comunicacio@castellbisbal.cat
X-WR-TIMEZONE:Europe/Madrid
DESCRIPTION:El 24 de gener, a les 11.30 hores, a la pista coberta de l'Escola Montserrat (NOVA UBICACIÓ)

URI:https://www.castellbisbal.cat/actualitat/agenda/festa-major-de-sant-vicenc/25059-vermut-popular.html
CLASS:PUBLIC
END:VEVENT
END:VCALENDAR
